BEGIN:VCALENDAR
VERSION:2.0
PRODID:-// - ECPv5.16.1.1//NONSGML v1.0//EN
CALSCALE:GREGORIAN
METHOD:PUBLISH
X-ORIGINAL-URL:https://www.newquaymarinegroup.com
X-WR-CALDESC:Events for 
BEGIN:VTIMEZONE
TZID:Europe/London
BEGIN:DAYLIGHT
TZOFFSETFROM:+0000
TZOFFSETTO:+0100
TZNAME:BST
DTSTART:20180325T010000
END:DAYLIGHT
BEGIN:STANDARD
TZOFFSETFROM:+0100
TZOFFSETTO:+0000
TZNAME:GMT
DTSTART:20181028T010000
END:STANDARD
END:VTIMEZONE
BEGIN:VEVENT
DTSTART;TZID=Europe/London:20180812T130000
DTEND;TZID=Europe/London:20180812T170000
DTSTAMP:20260422T191756
CREATED:20180408T201726Z
LAST-MODIFIED:20180408T201726Z
UID:419-1534078800-1534093200@www.newquaymarinegroup.com
SUMMARY:Snorkel Session
DESCRIPTION:Come and join Newquay Marine Group\, in collaboration with Cornwall Wildlife Trust and Your Shore beach rangers for a snorkel at little Fistral!
URL:https://www.newquaymarinegroup.com/calendar/snorkel-session-3/
LOCATION:Little Fistral Car Park
END:VEVENT
END:VCALENDAR