BEGIN:VCALENDAR
VERSION:2.0
PRODID:-// - ECPv5.16.1.1//NONSGML v1.0//EN
CALSCALE:GREGORIAN
METHOD:PUBLISH
X-ORIGINAL-URL:https://www.newquaymarinegroup.com
X-WR-CALDESC:Events for 
BEGIN:VTIMEZONE
TZID:Europe/London
BEGIN:DAYLIGHT
TZOFFSETFROM:+0000
TZOFFSETTO:+0100
TZNAME:BST
DTSTART:20180325T010000
END:DAYLIGHT
BEGIN:STANDARD
TZOFFSETFROM:+0100
TZOFFSETTO:+0000
TZNAME:GMT
DTSTART:20181028T010000
END:STANDARD
END:VTIMEZONE
BEGIN:VEVENT
DTSTART;TZID=Europe/London:20180813T140000
DTEND;TZID=Europe/London:20180813T160000
DTSTAMP:20260422T191839
CREATED:20180424T154115Z
LAST-MODIFIED:20180424T154115Z
UID:490-1534168800-1534176000@www.newquaymarinegroup.com
SUMMARY:Shoresearch Survey
DESCRIPTION:Info to follow 🙂
URL:https://www.newquaymarinegroup.com/calendar/shoresearch-survey-2/
LOCATION:Fistral Beach South
END:VEVENT
END:VCALENDAR