BEGIN:VCALENDAR
VERSION:2.0
PRODID:-// - ECPv5.16.1.1//NONSGML v1.0//EN
CALSCALE:GREGORIAN
METHOD:PUBLISH
X-ORIGINAL-URL:https://www.newquaymarinegroup.com
X-WR-CALDESC:Events for 
BEGIN:VTIMEZONE
TZID:Europe/London
BEGIN:DAYLIGHT
TZOFFSETFROM:+0000
TZOFFSETTO:+0100
TZNAME:BST
DTSTART:20180325T010000
END:DAYLIGHT
BEGIN:STANDARD
TZOFFSETFROM:+0100
TZOFFSETTO:+0000
TZNAME:GMT
DTSTART:20181028T010000
END:STANDARD
END:VTIMEZONE
BEGIN:VEVENT
DTSTART;TZID=Europe/London:20180907T090000
DTEND;TZID=Europe/London:20180909T170000
DTSTAMP:20260422T205726
CREATED:20180424T115411Z
LAST-MODIFIED:20180424T115411Z
UID:481-1536310800-1536512400@www.newquaymarinegroup.com
SUMMARY:Fish Festival
DESCRIPTION:
URL:https://www.newquaymarinegroup.com/calendar/fish-festival/
LOCATION:Newquay Harbour
END:VEVENT
END:VCALENDAR