BEGIN:VCALENDAR
VERSION:2.0
PRODID:-// - ECPv5.16.1.1//NONSGML v1.0//EN
CALSCALE:GREGORIAN
METHOD:PUBLISH
X-ORIGINAL-URL:https://www.newquaymarinegroup.com
X-WR-CALDESC:Events for 
BEGIN:VTIMEZONE
TZID:Europe/London
BEGIN:DAYLIGHT
TZOFFSETFROM:+0000
TZOFFSETTO:+0100
TZNAME:BST
DTSTART:20210328T010000
END:DAYLIGHT
BEGIN:STANDARD
TZOFFSETFROM:+0100
TZOFFSETTO:+0000
TZNAME:GMT
DTSTART:20211031T010000
END:STANDARD
END:VTIMEZONE
BEGIN:VEVENT
DTSTART;TZID=Europe/London:20211218T103000
DTEND;TZID=Europe/London:20211218T113000
DTSTAMP:20260423T104827
CREATED:20210107T145132Z
LAST-MODIFIED:20210107T145132Z
UID:1216-1639823400-1639827000@www.newquaymarinegroup.com
SUMMARY:Beach Clean
DESCRIPTION:NBC monthly clean – Watergate \n(Covid Guidelines apply – please keep an eye out on facebook for the details.)
URL:https://www.newquaymarinegroup.com/calendar/beach-clean-26/
LOCATION:Watergate Bay beach
END:VEVENT
END:VCALENDAR