BEGIN:VCALENDAR
VERSION:2.0
PRODID:-// - ECPv5.16.1.1//NONSGML v1.0//EN
CALSCALE:GREGORIAN
METHOD:PUBLISH
X-ORIGINAL-URL:https://www.newquaymarinegroup.com
X-WR-CALDESC:Events for 
BEGIN:VTIMEZONE
TZID:Europe/London
BEGIN:DAYLIGHT
TZOFFSETFROM:+0000
TZOFFSETTO:+0100
TZNAME:BST
DTSTART:20220327T010000
END:DAYLIGHT
BEGIN:STANDARD
TZOFFSETFROM:+0100
TZOFFSETTO:+0000
TZNAME:GMT
DTSTART:20221030T010000
END:STANDARD
END:VTIMEZONE
BEGIN:VEVENT
DTSTART;TZID=Europe/London:20220202T183000
DTEND;TZID=Europe/London:20220202T203000
DTSTAMP:20260426T033354
CREATED:20220126T175133Z
LAST-MODIFIED:20220126T175133Z
UID:1392-1643826600-1643833800@www.newquaymarinegroup.com
SUMMARY:Blue Carbon Talk
DESCRIPTION:Marine Ecosystems\, Fisheries and Blue Carbon\nIan Hendy from University of Plymouth will join us for a talk on blue carbon and the amazing marine ecosystems on our doorstep. \nHear about his work with the Dorest and Devon fisheries and the amazing kelp project off the Sussex coast.
URL:https://www.newquaymarinegroup.com/calendar/blue-carbon-talk/
LOCATION:Cornwall College\, Newquay\, Wildflower Lane\, Newquay\, TR7 2LZ\, United Kingdom
ATTACH;FMTTYPE=image/jpeg:https://www.newquaymarinegroup.com/wp-content/uploads/2022/01/268261001_4026518214117596_8543935427126442688_n.jpeg
END:VEVENT
END:VCALENDAR