BEGIN:VCALENDAR
VERSION:2.0
PRODID:-// - ECPv5.16.1.1//NONSGML v1.0//EN
CALSCALE:GREGORIAN
METHOD:PUBLISH
X-ORIGINAL-URL:https://www.newquaymarinegroup.com
X-WR-CALDESC:Events for 
BEGIN:VTIMEZONE
TZID:Europe/London
BEGIN:DAYLIGHT
TZOFFSETFROM:+0000
TZOFFSETTO:+0100
TZNAME:BST
DTSTART:20170326T010000
END:DAYLIGHT
BEGIN:STANDARD
TZOFFSETFROM:+0100
TZOFFSETTO:+0000
TZNAME:GMT
DTSTART:20171029T010000
END:STANDARD
END:VTIMEZONE
BEGIN:VEVENT
DTSTART;TZID=Europe/London:20170408T100000
DTEND;TZID=Europe/London:20170408T120000
DTSTAMP:20260423T180734
CREATED:20170106T142605Z
LAST-MODIFIED:20170106T142605Z
UID:216-1491645600-1491652800@www.newquaymarinegroup.com
SUMMARY:Beach Clean
DESCRIPTION:meet in the small car park…
URL:https://www.newquaymarinegroup.com/calendar/beach-clean-5/
LOCATION:Lower Gannel Car park
END:VEVENT
END:VCALENDAR