BEGIN:VCALENDAR
VERSION:2.0
PRODID:-// - ECPv5.16.1.1//NONSGML v1.0//EN
CALSCALE:GREGORIAN
METHOD:PUBLISH
X-ORIGINAL-URL:https://www.newquaymarinegroup.com
X-WR-CALDESC:Events for 
BEGIN:VTIMEZONE
TZID:Europe/London
BEGIN:DAYLIGHT
TZOFFSETFROM:+0000
TZOFFSETTO:+0100
TZNAME:BST
DTSTART:20190331T010000
END:DAYLIGHT
BEGIN:STANDARD
TZOFFSETFROM:+0100
TZOFFSETTO:+0000
TZNAME:GMT
DTSTART:20191027T010000
END:STANDARD
END:VTIMEZONE
BEGIN:VEVENT
DTSTART;TZID=Europe/London:20190113T123000
DTEND;TZID=Europe/London:20190113T133000
DTSTAMP:20260423T035047
CREATED:20190102T142104Z
LAST-MODIFIED:20190102T142104Z
UID:557-1547382600-1547386200@www.newquaymarinegroup.com
SUMMARY:Beach Clean at the Gannel!
DESCRIPTION:Beach clean at The Gannel! Help clean your local beach and protect our oceans. \nJust turn up to join in\, all equipment provided. Will be meeting at the small Gannel car park.
URL:https://www.newquaymarinegroup.com/calendar/beach-clean-at-the-gannel/
LOCATION:Lower Gannel Car park
END:VEVENT
END:VCALENDAR