BEGIN:VCALENDAR
VERSION:2.0
PRODID:-// - ECPv5.16.1.1//NONSGML v1.0//EN
CALSCALE:GREGORIAN
METHOD:PUBLISH
X-ORIGINAL-URL:https://www.newquaymarinegroup.com
X-WR-CALDESC:Events for 
BEGIN:VTIMEZONE
TZID:Europe/London
BEGIN:DAYLIGHT
TZOFFSETFROM:+0000
TZOFFSETTO:+0100
TZNAME:BST
DTSTART:20180325T010000
END:DAYLIGHT
BEGIN:STANDARD
TZOFFSETFROM:+0100
TZOFFSETTO:+0000
TZNAME:GMT
DTSTART:20181028T010000
END:STANDARD
END:VTIMEZONE
BEGIN:VEVENT
DTSTART;TZID=Europe/London:20180609T100000
DTEND;TZID=Europe/London:20180609T130000
DTSTAMP:20260422T221009
CREATED:20180410T103508Z
LAST-MODIFIED:20180410T103508Z
UID:428-1528538400-1528549200@www.newquaymarinegroup.com
SUMMARY:Crantock Beach Clean
DESCRIPTION:Help clean your local beach and protect our oceans! Come and join Newquay Marine Group\, in association with Beach Care at Crantock Beach. \nAll equipment is provided so just turn up to join in\, meet at the national trust car park with toilets.  \nUnder 18’s to be accompanied by an adult. Dog’s are also very welcome!
URL:https://www.newquaymarinegroup.com/calendar/crantock-beach-clean/
LOCATION:Crantock Beach\, Newquay\, Cornwall\, Tr85RN
END:VEVENT
END:VCALENDAR