BEGIN:VCALENDAR
VERSION:2.0
PRODID:-// - ECPv5.16.1.1//NONSGML v1.0//EN
CALSCALE:GREGORIAN
METHOD:PUBLISH
X-ORIGINAL-URL:https://www.newquaymarinegroup.com
X-WR-CALDESC:Events for 
BEGIN:VTIMEZONE
TZID:Europe/London
BEGIN:DAYLIGHT
TZOFFSETFROM:+0000
TZOFFSETTO:+0100
TZNAME:BST
DTSTART:20170326T010000
END:DAYLIGHT
BEGIN:STANDARD
TZOFFSETFROM:+0100
TZOFFSETTO:+0000
TZNAME:GMT
DTSTART:20171029T010000
END:STANDARD
END:VTIMEZONE
BEGIN:VEVENT
DTSTART;TZID=Europe/London:20170225T083000
DTEND;TZID=Europe/London:20170225T223000
DTSTAMP:20260424T072509
CREATED:20170131T130333Z
LAST-MODIFIED:20170226T110029Z
UID:234-1488011400-1488061800@www.newquaymarinegroup.com
SUMMARY:Gannel Bird Walk - with bird list
DESCRIPTION:With Steve Rowe \nFree to all – bring warm clothes and sturdy footwear. And Binoculars \nUPDATE \nHere is the main list of species seen by all on the estuary this morning:\nCattle Egret\nLittle Egret\nCormorant\nWigeon\nGreenshank\nRedshank\nCommon Sandpiper\nCurlew\nOystercatcher\nGreat Black-backed Gull\nLesser Black-backed Gull\nHerring Gull\nBlack-headed Gull\nMediterranean Gull \nSome may have also seen\nWater Pipit\nRock Pipit\nCommon Gull
URL:https://www.newquaymarinegroup.com/calendar/gannel-bird-walk/
LOCATION:Lower Gannel Car park
END:VEVENT
END:VCALENDAR