BEGIN:VCALENDAR
VERSION:2.0
PRODID:-// - ECPv5.16.1.1//NONSGML v1.0//EN
CALSCALE:GREGORIAN
METHOD:PUBLISH
X-ORIGINAL-URL:https://www.newquaymarinegroup.com
X-WR-CALDESC:Events for 
BEGIN:VTIMEZONE
TZID:Europe/London
BEGIN:DAYLIGHT
TZOFFSETFROM:+0000
TZOFFSETTO:+0100
TZNAME:BST
DTSTART:20180325T010000
END:DAYLIGHT
BEGIN:STANDARD
TZOFFSETFROM:+0100
TZOFFSETTO:+0000
TZNAME:GMT
DTSTART:20181028T010000
END:STANDARD
END:VTIMEZONE
BEGIN:VEVENT
DTSTART;TZID=Europe/London:20181114T183000
DTEND;TZID=Europe/London:20181114T210000
DTSTAMP:20260422T234315
CREATED:20181102T152449Z
LAST-MODIFIED:20181102T152449Z
UID:515-1542220200-1542229200@www.newquaymarinegroup.com
SUMMARY:Micro Plastics in UK waters- with Deborah Maw
DESCRIPTION:Come along to hear from Deborah – An adventurer\, author and environmentalist who joined the All women Expedition around the UK testing for microplastics. \nLook on Facebook for more details
URL:https://www.newquaymarinegroup.com/calendar/micro-plastics-in-uk-waters-with-deborah-maw/
LOCATION:Cornwall College\, TR7 2LZ
END:VEVENT
END:VCALENDAR