BEGIN:VCALENDAR
VERSION:2.0
PRODID:-// - ECPv5.16.1.1//NONSGML v1.0//EN
CALSCALE:GREGORIAN
METHOD:PUBLISH
X-ORIGINAL-URL:https://www.newquaymarinegroup.com
X-WR-CALDESC:Events for 
BEGIN:VTIMEZONE
TZID:Europe/London
BEGIN:DAYLIGHT
TZOFFSETFROM:+0000
TZOFFSETTO:+0100
TZNAME:BST
DTSTART:20180325T010000
END:DAYLIGHT
BEGIN:STANDARD
TZOFFSETFROM:+0100
TZOFFSETTO:+0000
TZNAME:GMT
DTSTART:20181028T010000
END:STANDARD
END:VTIMEZONE
BEGIN:VEVENT
DTSTART;TZID=Europe/London:20181112T183000
DTEND;TZID=Europe/London:20181112T200000
DTSTAMP:20260422T233631
CREATED:20181102T152816Z
LAST-MODIFIED:20181102T152816Z
UID:516-1542047400-1542052800@www.newquaymarinegroup.com
SUMMARY:NMG Meeting
DESCRIPTION:We’re having our monthly meeting at the Lanherne pub\, come and join us for a pint and hear what everyone’s been getting up to!
URL:https://www.newquaymarinegroup.com/calendar/nmg-meeting-2/
LOCATION:Lanherne Pub\, Ulalia Road\, Newquay\, TR7 2PZ\, United Kingdom
END:VEVENT
END:VCALENDAR