BEGIN:VCALENDAR
VERSION:2.0
PRODID:-// - ECPv5.16.1.1//NONSGML v1.0//EN
CALSCALE:GREGORIAN
METHOD:PUBLISH
X-ORIGINAL-URL:https://www.newquaymarinegroup.com
X-WR-CALDESC:Events for 
BEGIN:VTIMEZONE
TZID:Europe/London
BEGIN:DAYLIGHT
TZOFFSETFROM:+0000
TZOFFSETTO:+0100
TZNAME:BST
DTSTART:20180325T010000
END:DAYLIGHT
BEGIN:STANDARD
TZOFFSETFROM:+0100
TZOFFSETTO:+0000
TZNAME:GMT
DTSTART:20181028T010000
END:STANDARD
END:VTIMEZONE
BEGIN:VEVENT
DTSTART;TZID=Europe/London:20180811T100000
DTEND;TZID=Europe/London:20180811T130000
DTSTAMP:20260422T191913
CREATED:20180410T104054Z
LAST-MODIFIED:20180410T104054Z
UID:433-1533981600-1533992400@www.newquaymarinegroup.com
SUMMARY:Porth Beach Clean
DESCRIPTION:Help clean your local beach and protect our oceans! Come and join Newquay Marine Group\, in association with Beach Care at Porth Beach. \nAll equipment is provided so just turn up to join in\, meet at the mermaid pub car park.  \nUnder 18’s to be accompanied by an adult. Dog’s are also very welcome!
URL:https://www.newquaymarinegroup.com/calendar/porth-beach-clean-2/
LOCATION:Porth Beach
END:VEVENT
END:VCALENDAR