BEGIN:VCALENDAR
VERSION:2.0
PRODID:-// - ECPv5.16.1.1//NONSGML v1.0//EN
CALSCALE:GREGORIAN
METHOD:PUBLISH
X-ORIGINAL-URL:https://www.newquaymarinegroup.com
X-WR-CALDESC:Events for 
BEGIN:VTIMEZONE
TZID:Europe/London
BEGIN:DAYLIGHT
TZOFFSETFROM:+0000
TZOFFSETTO:+0100
TZNAME:BST
DTSTART:20170326T010000
END:DAYLIGHT
BEGIN:STANDARD
TZOFFSETFROM:+0100
TZOFFSETTO:+0000
TZNAME:GMT
DTSTART:20171029T010000
END:STANDARD
END:VTIMEZONE
BEGIN:VEVENT
DTSTART;TZID=Europe/London:20170402T110000
DTEND;TZID=Europe/London:20170402T130000
DTSTAMP:20260423T210758
CREATED:20170410T145556Z
LAST-MODIFIED:20170410T145556Z
UID:258-1491130800-1491138000@www.newquaymarinegroup.com
SUMMARY:Seaquest Sunday
DESCRIPTION:
URL:https://www.newquaymarinegroup.com/calendar/seaquest-sunday-10/
LOCATION:Towan Headland
END:VEVENT
END:VCALENDAR