BEGIN:VCALENDAR
VERSION:2.0
PRODID:-// - ECPv5.16.1.1//NONSGML v1.0//EN
CALSCALE:GREGORIAN
METHOD:PUBLISH
X-ORIGINAL-URL:https://www.newquaymarinegroup.com
X-WR-CALDESC:Events for 
BEGIN:VTIMEZONE
TZID:Europe/London
BEGIN:DAYLIGHT
TZOFFSETFROM:+0000
TZOFFSETTO:+0100
TZNAME:BST
DTSTART:20160327T010000
END:DAYLIGHT
BEGIN:STANDARD
TZOFFSETFROM:+0100
TZOFFSETTO:+0000
TZNAME:GMT
DTSTART:20161030T010000
END:STANDARD
END:VTIMEZONE
BEGIN:VEVENT
DTSTART;TZID=Europe/London:20160410T110000
DTEND;TZID=Europe/London:20160410T130000
DTSTAMP:20260426T035039
CREATED:20160404T140918Z
LAST-MODIFIED:20160404T140918Z
UID:86-1460286000-1460293200@www.newquaymarinegroup.com
SUMMARY:Seaquest Sunday
DESCRIPTION:Join us for some cetacean spotting. Meet at the little Fistral car park. Bring warm clothes\, something to sit on and some binoculars if you have them.
URL:https://www.newquaymarinegroup.com/calendar/seaquest-sunday/
LOCATION:Towan Headland
END:VEVENT
END:VCALENDAR